BEGIN:VCALENDAR
VERSION:2.0
PRODID:-//Tukios.com/
BEGIN:VEVENT
UID:ca04ec9b-9bef-4722-8945-9b31a153bc7c@www.williamrogerdecarbo.com
DTSTAMP:20260425T013201Z
DTSTART:20260427T143000Z
DTEND:20260427T153000Z
SUMMARY:Mass
DESCRIPTION:
URL:https://www.williamrogerdecarbo.com/obituaries/leonard-lastoria
LOCATION: 910 South Mercer Street  New Castle PA 16101
GEO:40.990001;-80.3457662
END:VEVENT
END:VCALENDAR