BEGIN:VCALENDAR
VERSION:2.0
PRODID:-//Tukios.com/
BEGIN:VEVENT
UID:464f4e39-8437-41e8-826f-548fa41e39ee@www.williamrogerdecarbo.com
DTSTAMP:20260422T195152Z
DTSTART:20260425T160000Z
DTEND:20260425T180000Z
SUMMARY:Visitation
DESCRIPTION:
URL:https://www.williamrogerdecarbo.com/obituaries/shirley-nader
LOCATION: 926 Cunningham Ave.  New Castle PA 16101
GEO:40.9899036;-80.3372691
END:VEVENT
END:VCALENDAR