BEGIN:VCALENDAR
VERSION:2.0
PRODID:-//Tukios.com/
BEGIN:VEVENT
UID:dddd4326-0957-49d7-aa8d-b3a165b4ea43@www.williamrogerdecarbo.com
DTSTAMP:20260422T194328Z
DTSTART:20260425T180000Z
DTEND:20260425T190000Z
SUMMARY:Funeral Service
DESCRIPTION:
URL:https://www.williamrogerdecarbo.com/obituaries/shirley-nader
LOCATION:William F. DeCarbo Memorial Chapel 926 Cunningham Avenue  New 
	Castle PA 16101
GEO:40.9899036;-80.3372691
END:VEVENT
END:VCALENDAR